BEGIN:VCALENDAR
VERSION:2.0
PRODID:-//Worldview Journeys - ECPv6.15.17.1//NONSGML v1.0//EN
CALSCALE:GREGORIAN
METHOD:PUBLISH
X-ORIGINAL-URL:https://worldviewjourneys.com
X-WR-CALDESC:Events for Worldview Journeys
REFRESH-INTERVAL;VALUE=DURATION:PT1H
X-Robots-Tag:noindex
X-PUBLISHED-TTL:PT1H
BEGIN:VTIMEZONE
TZID:Europe/Amsterdam
BEGIN:DAYLIGHT
TZOFFSETFROM:+0100
TZOFFSETTO:+0200
TZNAME:CEST
DTSTART:20240331T010000
END:DAYLIGHT
BEGIN:STANDARD
TZOFFSETFROM:+0200
TZOFFSETTO:+0100
TZNAME:CET
DTSTART:20241027T010000
END:STANDARD
BEGIN:DAYLIGHT
TZOFFSETFROM:+0100
TZOFFSETTO:+0200
TZNAME:CEST
DTSTART:20250330T010000
END:DAYLIGHT
BEGIN:STANDARD
TZOFFSETFROM:+0200
TZOFFSETTO:+0100
TZNAME:CET
DTSTART:20251026T010000
END:STANDARD
BEGIN:DAYLIGHT
TZOFFSETFROM:+0100
TZOFFSETTO:+0200
TZNAME:CEST
DTSTART:20260329T010000
END:DAYLIGHT
BEGIN:STANDARD
TZOFFSETFROM:+0200
TZOFFSETTO:+0100
TZNAME:CET
DTSTART:20261025T010000
END:STANDARD
END:VTIMEZONE
BEGIN:VEVENT
DTSTART;TZID=Europe/Amsterdam:20250820T203000
DTEND;TZID=Europe/Amsterdam:20250820T214500
DTSTAMP:20260424T124314
CREATED:20250714T113828Z
LAST-MODIFIED:20250730T160408Z
UID:10000069-1755721800-1755726300@worldviewjourneys.com
SUMMARY:Generative Dialogue Session (online)
DESCRIPTION:
URL:https://worldviewjourneys.com/event/generative-dialogue-session/
ATTACH;FMTTYPE=image/png:https://worldviewjourneys.com/wp-content/uploads/worldviews_Communication_small.png
END:VEVENT
END:VCALENDAR